Workbook

Sheet Currency
A2: Group Name | E2: Account #
A5: Date: | B5: Date | E5: Receipt #
A8: Currency
B9: Hundred's | D9: X | E9: 100 | F9: =C9*E9 -> 0
B10: Fifty's | D10: X | E10: 50 | F10: =C10*E10 -> 0
B11: Twenty's | D11: X | E11: 20 | F11: =C11*E11 -> 0
B12: Ten's | D12: X | E12: 10 | F12: =C12*E12 -> 0
B13: Five's | D13: X | E13: 5 | F13: =C13*E13 -> 0
B14: Two's | D14: X | E14: 2 | F14: =C14*E14 -> 0
B15: One's | D15: X | E15: 1 | F15: =C15*E15 -> 0
H16: Total | I16: =SUM(F9:F15) -> 0
A17: Coins | B17: Rolled Coins
A18: Rolled
B19: Pennies | D19: X | E19: 0.5 | F19: =C19*E19 -> 0
B20: Nickels | D20: X | E20: 2 | F20: =C20*E20 -> 0
B21: Dimes | D21: X | E21: 5 | F21: =C21*E21 -> 0
B22: Quarters | D22: X | E22: 10 | F22: =C22*E22 -> 0
H23: Total | I23: =SUM(F19:F22) -> 0
A25: Loose | B25: Loose Coins
B26: Pennies | D26: X | E26: 0.01 | F26: =C26*E26 -> 0
B27: Nickels | D27: X | E27: 0.05 | F27: =C27*E27 -> 0
B28: Dimes | D28: X | E28: 0.1 | F28: =C28*E28 -> 0
B29: Quarters | D29: X | E29: 0.25 | F29: =C29*E29 -> 0
B30: Halves | D30: X | E30: 0.5 | F30: =C30*E30 -> 0
B31: Dollars | D31: X | E31: 1 | F31: =C31*E31 -> 0
H32: Total | I32: =SUM(F26:F31) -> 0
H35: Totals
B36: Total Checks | C36: ='IGNORE-1'!E12 -> 0 | H36: Currency | I36: =I16 -> 0
H37: Rolled Coins | I37: =I23 -> 0
B38: ** All Checks must be listed on back of page | H38: Loose Coins | I38: =I32 -> 0
H39: Checks | I39: ='IGNORE-1'!E12 -> 0
H41: Grand Total | I41: =SUM(I36:I40) -> 0
C43: Prepared By:
B46: VERIFIED BY CLASS/CLUB TREASURER
C49: Deposited By:
B51: Business Office Signature:

Sheet Checks
B1: Checks
B3: Name | F3: Check Number | H3: Amount

Sheet IGNORE-1
B2: Check Summary | C2: 1-10's | E2: =DSUM(Checks!$F$3:$H$29,"Amount",Ignore!A1:C2) -> 0 | F2: =DCOUNT(Checks!$F$3:$H$29,"Amount",Ignore!A1:C2) -> 0
C3: 20's | E3: =DSUM(Checks!$F$3:$H$29,"Amount",Ignore!A4:C5) -> 0 | F3: =DCOUNT(Checks!$F$3:$H$29,"Amount",Ignore!A4:C5) -> 0
C4: 30's | E4: =DSUM(Checks!$F$3:$H$29,"Amount",Ignore!A7:C8) -> 0 | F4: =DCOUNT(Checks!$F$3:$H$29,"Amount",Ignore!A7:C8) -> 0
C5: 40's | E5: =DSUM(Checks!$F$3:$H$29,"Amount",Ignore!A10:C11) -> 0 | F5: =DCOUNT(Checks!$F$3:$H$29,"Amount",Ignore!A10:C11) -> 0
C6: 50's | E6: =DSUM(Checks!$F$3:$H$29,"Amount",Ignore!A13:C14) -> 0 | F6: =DCOUNT(Checks!$F$3:$H$29,"Amount",Ignore!A13:C14) -> 0
C7: 60's | E7: =DSUM(Checks!$F$3:$H$29,"Amount",Ignore!A16:C17) -> 0 | F7: =DCOUNT(Checks!$F$3:$H$29,"Amount",Ignore!A16:C17) -> 0
C8: 70's | E8: =DSUM(Checks!$F$3:$H$29,"Amount",Ignore!A19:C20) -> 0 | F8: =DCOUNT(Checks!$F$3:$H$29,"Amount",Ignore!A19:C20) -> 0
C9: 80's | E9: =DSUM(Checks!$F$3:$H$29,"Amount",Ignore!A22:C23) -> 0 | F9: =DCOUNT(Checks!$F$3:$H$29,"Amount",Ignore!A22:C23) -> 0
C10: 90's | E10: =DSUM(Checks!$F$3:$H$29,"Amount",Ignore!A25:C26) -> 0 | F10: =DCOUNT(Checks!$F$3:$H$29,"Amount",Ignore!A25:C26) -> 0
C11: 100 or above | E11: =DSUM(Checks!$F$3:$H$29,"Amount",Ignore!A28:C29) -> 0 | F11: =DCOUNT(Checks!$F$3:$H$29,"Amount",Ignore!A28:C29) -> 0
B12: Total Checks | E12: =SUM(Checks!H4:H29) -> 0 | F12: =SUM(F2:F11) -> 0

Sheet Ignore
A1: Check Number | B1: Amount | C1: Amount
B2: <20
A4: Check Number | B4: Amount | C4: Amount
B5: >=20 | C5: <30
A7: Check Number | B7: Amount | C7: Amount
B8: >=30 | C8: <40
A10: Check Number | B10: Amount | C10: Amount
B11: >=40 | C11: <50
A13: Check Number | B13: Amount | C13: Amount
B14: >=50 | C14: <60
A16: Check Number | B16: Amount | C16: Amount
B17: >=60 | C17: <70
A19: Check Number | B19: Amount | C19: Amount
B20: >=70 | C20: <80
A22: Check Number | B22: Amount | C22: Amount
B23: >=80 | C23: <90
A25: Check Number | B25: Amount | C25: Amount
B26: >=90 | C26: <100
A28: Check Number | B28: Amount | C28: Amount
B29: >=100
